BEGIN:VCALENDAR
VERSION:2.0
PRODID:-//Huron County Board of Elections - ECPv5.6.0//NONSGML v1.0//EN
CALSCALE:GREGORIAN
METHOD:PUBLISH
X-WR-CALNAME:Huron County Board of Elections
X-ORIGINAL-URL:https://www.huron.boe.ohio.gov
X-WR-CALDESC:Events for Huron County Board of Elections
BEGIN:VTIMEZONE
TZID:America/New_York
BEGIN:DAYLIGHT
TZOFFSETFROM:-0500
TZOFFSETTO:-0400
TZNAME:EDT
DTSTART:20210314T070000
END:DAYLIGHT
BEGIN:STANDARD
TZOFFSETFROM:-0400
TZOFFSETTO:-0500
TZNAME:EST
DTSTART:20211107T060000
END:STANDARD
END:VTIMEZONE
BEGIN:VEVENT
DTSTART;TZID=America/New_York:20210416T080000
DTEND;TZID=America/New_York:20210416T170000
DTSTAMP:20210522T120925
CREATED:20210315T190251Z
LAST-MODIFIED:20210315T190252Z
UID:2626-1618560000-1618592400@www.huron.boe.ohio.gov
SUMMARY:Absentee Voting in Meeting Room A    8:00 am - 5:00 pm
DESCRIPTION:
URL:https://www.huron.boe.ohio.gov/event/absentee-voting-in-meeting-room-a-800-am-500-pm-9/
ATTACH;FMTTYPE=image/png:https://www.huron.boe.ohio.gov/wp-content/uploads/rinG8Xq8T.png
END:VEVENT
END:VCALENDAR