BEGIN:VCALENDAR
VERSION:2.0
PRODID:-//Huron County Board of Elections - ECPv5.7.1//NONSGML v1.0//EN
CALSCALE:GREGORIAN
METHOD:PUBLISH
X-WR-CALNAME:Huron County Board of Elections
X-ORIGINAL-URL:https://www.huron.boe.ohio.gov
X-WR-CALDESC:Events for Huron County Board of Elections
BEGIN:VTIMEZONE
TZID:America/New_York
BEGIN:DAYLIGHT
TZOFFSETFROM:-0500
TZOFFSETTO:-0400
TZNAME:EDT
DTSTART:20210314T070000
END:DAYLIGHT
BEGIN:STANDARD
TZOFFSETFROM:-0400
TZOFFSETTO:-0500
TZNAME:EST
DTSTART:20211107T060000
END:STANDARD
END:VTIMEZONE
BEGIN:VEVENT
DTSTART;TZID=America/New_York:20210816T080000
DTEND;TZID=America/New_York:20210816T090000
DTSTAMP:20210625T140120
CREATED:20210316T135502Z
LAST-MODIFIED:20210316T135503Z
UID:2701-1629100800-1629104400@www.huron.boe.ohio.gov
SUMMARY:Board Meeting @ 8:00 am (regular meeting to certify the validity and sufficiency of non-partisan candidate and local option petitions for the November 2\, 2021 General Election).
DESCRIPTION:
URL:https://www.huron.boe.ohio.gov/event/board-meeting-800-am-regular-meeting-to-certify-the-validity-and-sufficiency-of-non-partisan-candidate-and-local-option-petitions-for-the-november-2-2021-general-election/
ATTACH;FMTTYPE=image/png:https://www.huron.boe.ohio.gov/wp-content/uploads/rinG8Xq8T.png
END:VEVENT
END:VCALENDAR