BEGIN:VCALENDAR
VERSION:2.0
PRODID:-//Huron County Board of Elections - ECPv5.8.0//NONSGML v1.0//EN
CALSCALE:GREGORIAN
METHOD:PUBLISH
X-WR-CALNAME:Huron County Board of Elections
X-ORIGINAL-URL:https://www.huron.boe.ohio.gov
X-WR-CALDESC:Events for Huron County Board of Elections
BEGIN:VTIMEZONE
TZID:America/New_York
BEGIN:DAYLIGHT
TZOFFSETFROM:-0500
TZOFFSETTO:-0400
TZNAME:EDT
DTSTART:20200308T070000
END:DAYLIGHT
BEGIN:STANDARD
TZOFFSETFROM:-0400
TZOFFSETTO:-0500
TZNAME:EST
DTSTART:20201101T060000
END:STANDARD
END:VTIMEZONE
BEGIN:VEVENT
DTSTART;TZID=America/New_York:20200210T090000
DTEND;TZID=America/New_York:20200210T100000
DTSTAMP:20210715T122113
CREATED:20200131T193906Z
LAST-MODIFIED:20200131T202808Z
UID:1644-1581325200-1581328800@www.huron.boe.ohio.gov
SUMMARY:PEO Training @ 9:00 a.m.
DESCRIPTION:PEO Training will be held in the office at the Board of Elections.  Suite 4
URL:https://www.huron.boe.ohio.gov/event/precinct-election-official-training-900-a-m/
ATTACH;FMTTYPE=image/png:https://www.huron.boe.ohio.gov/wp-content/uploads/rinG8Xq8T.png
END:VEVENT
END:VCALENDAR