BEGIN:VCALENDAR
VERSION:2.0
PRODID:-//Huron County Board of Elections - ECPv5.9.1//NONSGML v1.0//EN
CALSCALE:GREGORIAN
METHOD:PUBLISH
X-WR-CALNAME:Huron County Board of Elections
X-ORIGINAL-URL:https://www.huron.boe.ohio.gov
X-WR-CALDESC:Events for Huron County Board of Elections
BEGIN:VTIMEZONE
TZID:America/New_York
BEGIN:DAYLIGHT
TZOFFSETFROM:-0500
TZOFFSETTO:-0400
TZNAME:EDT
DTSTART:20210314T070000
END:DAYLIGHT
BEGIN:STANDARD
TZOFFSETFROM:-0400
TZOFFSETTO:-0500
TZNAME:EST
DTSTART:20211107T060000
END:STANDARD
END:VTIMEZONE
BEGIN:VEVENT
DTSTART;TZID=America/New_York:20211101T170000
DTEND;TZID=America/New_York:20211101T180000
DTSTAMP:20211007T191540
CREATED:20210316T143019Z
LAST-MODIFIED:20210316T143135Z
UID:2707-1635786000-1635789600@www.huron.boe.ohio.gov
SUMMARY:Board Meeting @ 5:00 pm (General Election Meeting)
DESCRIPTION:
URL:https://www.huron.boe.ohio.gov/event/board-meeting-500-pm-general-election-meeting/
ATTACH;FMTTYPE=image/png:https://www.huron.boe.ohio.gov/wp-content/uploads/rinG8Xq8T.png
END:VEVENT
BEGIN:VEVENT
DTSTART;TZID=America/New_York:20211117T080000
DTEND;TZID=America/New_York:20211117T090000
DTSTAMP:20211007T191540
CREATED:20210316T143307Z
LAST-MODIFIED:20210316T143308Z
UID:2709-1637136000-1637139600@www.huron.boe.ohio.gov
SUMMARY:Board Meeting @ 8:00 am (regular meeting to accept/reject provisional ballots)
DESCRIPTION:
URL:https://www.huron.boe.ohio.gov/event/board-meeting-800-am-regular-meeting-to-accept-reject-provisional-ballots/
ATTACH;FMTTYPE=image/png:https://www.huron.boe.ohio.gov/wp-content/uploads/rinG8Xq8T.png
END:VEVENT
BEGIN:VEVENT
DTSTART;TZID=America/New_York:20211122T080000
DTEND;TZID=America/New_York:20211122T090000
DTSTAMP:20211007T191540
CREATED:20210316T143430Z
LAST-MODIFIED:20210316T143431Z
UID:2711-1637568000-1637571600@www.huron.boe.ohio.gov
SUMMARY:Board Meeting @ 8:00 am (regular meeting to certify General Election results)
DESCRIPTION:
URL:https://www.huron.boe.ohio.gov/event/board-meeting-800-am-regular-meeting-to-certify-general-election-results/
ATTACH;FMTTYPE=image/png:https://www.huron.boe.ohio.gov/wp-content/uploads/rinG8Xq8T.png
END:VEVENT
END:VCALENDAR