BEGIN:VCALENDAR
VERSION:2.0
PRODID:-//Huron County Board of Elections - ECPv5.9.1//NONSGML v1.0//EN
CALSCALE:GREGORIAN
METHOD:PUBLISH
X-WR-CALNAME:Huron County Board of Elections
X-ORIGINAL-URL:https://www.huron.boe.ohio.gov
X-WR-CALDESC:Events for Huron County Board of Elections
BEGIN:VTIMEZONE
TZID:America/New_York
BEGIN:DAYLIGHT
TZOFFSETFROM:-0500
TZOFFSETTO:-0400
TZNAME:EDT
DTSTART:20220313T070000
END:DAYLIGHT
BEGIN:STANDARD
TZOFFSETFROM:-0400
TZOFFSETTO:-0500
TZNAME:EST
DTSTART:20221106T060000
END:STANDARD
END:VTIMEZONE
BEGIN:VEVENT
DTSTART;TZID=America/New_York:20220131T083000
DTEND;TZID=America/New_York:20220131T160000
DTSTAMP:20211007T191608
CREATED:20210122T161557Z
LAST-MODIFIED:20210315T154142Z
UID:2433-1643617800-1643644800@www.huron.boe.ohio.gov
SUMMARY:2021 Annual Campaign Finance Reports are due
DESCRIPTION:2021 Annual Campaign Finance Reports must disclose activity through December 31\, 2021
URL:https://www.huron.boe.ohio.gov/event/2021-annual-campaign-finance-reports-are-due/
ATTACH;FMTTYPE=image/png:https://www.huron.boe.ohio.gov/wp-content/uploads/rinG8Xq8T.png
END:VEVENT
END:VCALENDAR